BEGIN:VCALENDAR
VERSION:2.0
PRODID:-//Tuddenham St Mary Parish Council//Meeting Calendar//EN
CALSCALE:GREGORIAN
METHOD:PUBLISH
BEGIN:VEVENT
UID:70459-20250515@tuddenham-pc.gov.uk
DTSTAMP:20260420T082724Z
DTSTART;VALUE=DATE:20250515
DTEND;VALUE=DATE:20250516
SUMMARY:15th May 2025 &#8211\\; Annual Meeting
DESCRIPTION:Annual Parish Meeting\nView details: https://tuddenham-pc.gov.uk/meetings/annual-council-meeting-15th-may-2025/
URL:https://tuddenham-pc.gov.uk/meetings/annual-council-meeting-15th-may-2025/
END:VEVENT
END:VCALENDAR
