BEGIN:VCALENDAR
VERSION:2.0
PRODID:-//Tuddenham St Mary Parish Council//Meeting Calendar//EN
CALSCALE:GREGORIAN
METHOD:PUBLISH
BEGIN:VEVENT
UID:70464-20250424@tuddenham-pc.gov.uk
DTSTAMP:20260420T082610Z
DTSTART;VALUE=DATE:20250424
DTEND;VALUE=DATE:20250425
SUMMARY:24th April 2025
DESCRIPTION:Full Council Meeting\nView details: https://tuddenham-pc.gov.uk/meetings/council-meeting-24th-april-2025/
URL:https://tuddenham-pc.gov.uk/meetings/council-meeting-24th-april-2025/
END:VEVENT
END:VCALENDAR
