BEGIN:VCALENDAR
VERSION:2.0
PRODID:-//Tuddenham St Mary Parish Council//Meeting Calendar//EN
CALSCALE:GREGORIAN
METHOD:PUBLISH
BEGIN:VEVENT
UID:70467-20250320@tuddenham-pc.gov.uk
DTSTAMP:20260420T082610Z
DTSTART;VALUE=DATE:20250320
DTEND;VALUE=DATE:20250321
SUMMARY:20th March 2025
DESCRIPTION:Full Council Meeting\nView details: https://tuddenham-pc.gov.uk/meetings/council-meetings-20th-march-2025/
URL:https://tuddenham-pc.gov.uk/meetings/council-meetings-20th-march-2025/
END:VEVENT
END:VCALENDAR
