BEGIN:VCALENDAR
VERSION:2.0
PRODID:-//Tuddenham St Mary Parish Council//Meeting Calendar//EN
CALSCALE:GREGORIAN
METHOD:PUBLISH
BEGIN:VEVENT
UID:70470-20250220@tuddenham-pc.gov.uk
DTSTAMP:20260420T082551Z
DTSTART;VALUE=DATE:20250220
DTEND;VALUE=DATE:20250221
SUMMARY:20th February 2025
DESCRIPTION:Full Council Meeting\nView details: https://tuddenham-pc.gov.uk/meetings/council-meeting-20th-february-2025/
URL:https://tuddenham-pc.gov.uk/meetings/council-meeting-20th-february-2025/
END:VEVENT
END:VCALENDAR
