BEGIN:VCALENDAR
VERSION:2.0
PRODID:-//Tuddenham St Mary Parish Council//Meeting Calendar//EN
CALSCALE:GREGORIAN
METHOD:PUBLISH
BEGIN:VEVENT
UID:70479-20240101@tuddenham-pc.gov.uk
DTSTAMP:20260420T082216Z
DTSTART;VALUE=DATE:20240101
DTEND;VALUE=DATE:20240102
SUMMARY:Council Meetings &#8211\\; 2024
DESCRIPTION:Full Council Meeting\nView details: https://tuddenham-pc.gov.uk/meetings/council-meetings-2024/
URL:https://tuddenham-pc.gov.uk/meetings/council-meetings-2024/
END:VEVENT
END:VCALENDAR
