BEGIN:VCALENDAR
VERSION:2.0
PRODID:-//Tuddenham St Mary Parish Council//Meeting Calendar//EN
CALSCALE:GREGORIAN
METHOD:PUBLISH
BEGIN:VEVENT
UID:70494-20240516@tuddenham-pc.gov.uk
DTSTAMP:20260420T082029Z
DTSTART;VALUE=DATE:20240516
DTEND;VALUE=DATE:20240517
SUMMARY:16th May 2024 &#8211\\; Annual Meeting
DESCRIPTION:Annual Parish Meeting\nView details: https://tuddenham-pc.gov.uk/meetings/annual-council-meeting-16th-may-2024/
URL:https://tuddenham-pc.gov.uk/meetings/annual-council-meeting-16th-may-2024/
END:VEVENT
END:VCALENDAR
